BEGIN:VCALENDAR
PRODID:Nexudus
VERSION:2.0
BEGIN:VTIMEZONE
TZID:Asia/Singapore
X-LIC-LOCATION:Asia/Singapore
BEGIN:STANDARD
DTSTART:19820101T010000
RRULE:FREQ=YEARLY;BYDAY=1FR;BYMONTH=1
TZNAME:+08
TZOFFSETFROM:+0900
TZOFFSETTO:+0800
END:STANDARD
END:VTIMEZONE
BEGIN:VEVENT
DESCRIPTION:\nEvent link: https://Hubud.spaces.nexudus.com/en/events/view/1
 021210253/skill-share--what-if-work-enabled-the-lives-we-want-\n
DTEND;TZID=Asia/Singapore:20190522T183000
DTSTAMP:20260423T012506Z
DTSTART;TZID=Asia/Singapore:20190522T173000
LOCATION:Hubud
SEQUENCE:0
SUMMARY:Skill Share: What If Work Enabled the Lives We Want?
UID:8d1996d3-b056-4915-9ffc-9ffdb49e6448
END:VEVENT
END:VCALENDAR
