BEGIN:VCALENDAR
PRODID:Nexudus
VERSION:2.0
BEGIN:VTIMEZONE
TZID:Asia/Singapore
X-LIC-LOCATION:Asia/Singapore
BEGIN:STANDARD
DTSTART:19820101T010000
RRULE:FREQ=YEARLY;BYDAY=1FR;BYMONTH=1
TZNAME:+08
TZOFFSETFROM:+0900
TZOFFSETTO:+0800
END:STANDARD
END:VTIMEZONE
BEGIN:VEVENT
DESCRIPTION:\nEvent link: https://Hubud.spaces.nexudus.com/en/events/view/1
 084845774/skill-share--effective-feedback-in-business\n
DTEND;TZID=Asia/Singapore:20190709T183000
DTSTAMP:20260423T010107Z
DTSTART;TZID=Asia/Singapore:20190709T173000
LOCATION:Hubud
SEQUENCE:0
SUMMARY:Skill Share: Effective Feedback in Business
UID:56ea137f-ad6b-40c9-9fdc-4a30d54433e8
END:VEVENT
END:VCALENDAR
