BEGIN:VCALENDAR
PRODID:Nexudus
VERSION:2.0
BEGIN:VTIMEZONE
TZID:Asia/Singapore
X-LIC-LOCATION:Asia/Singapore
BEGIN:STANDARD
DTSTART:19820101T010000
RRULE:FREQ=YEARLY;BYDAY=1FR;BYMONTH=1
TZNAME:+08
TZOFFSETFROM:+0900
TZOFFSETTO:+0800
END:STANDARD
END:VTIMEZONE
BEGIN:VEVENT
DESCRIPTION:\nEvent link: https://Hubud.spaces.nexudus.com/en/events/view/1
 084852777/skill-share--public-speaking-masterclass\n
DTEND;TZID=Asia/Singapore:20190717T183000
DTSTAMP:20260423T011518Z
DTSTART;TZID=Asia/Singapore:20190717T173000
LOCATION:Hubud
SEQUENCE:0
SUMMARY:Skill Share: Public Speaking Masterclass
UID:2de03475-e5fa-4c07-bb7f-2a061cbe73b7
END:VEVENT
END:VCALENDAR
