BEGIN:VCALENDAR
PRODID:Nexudus
VERSION:2.0
BEGIN:VTIMEZONE
TZID:Asia/Singapore
X-LIC-LOCATION:Asia/Singapore
BEGIN:STANDARD
DTSTART:19820101T010000
RRULE:FREQ=YEARLY;BYDAY=1FR;BYMONTH=1
TZNAME:+08
TZOFFSETFROM:+0900
TZOFFSETTO:+0800
END:STANDARD
END:VTIMEZONE
BEGIN:VEVENT
DESCRIPTION:\nEvent link: https://Hubud.spaces.nexudus.com/en/events/view/1
 084897843/skill-share--how-to-double-your-revenue\n
DTEND;TZID=Asia/Singapore:20190704T183000
DTSTAMP:20260423T131714Z
DTSTART;TZID=Asia/Singapore:20190704T173000
LOCATION:Hubud
SEQUENCE:0
SUMMARY:Skill Share: How to Double your Revenue
UID:e9d52902-34c0-482d-86fd-a81eb3c05e4d
END:VEVENT
END:VCALENDAR
