BEGIN:VCALENDAR
PRODID:Nexudus
VERSION:2.0
BEGIN:VTIMEZONE
TZID:Asia/Singapore
X-LIC-LOCATION:Asia/Singapore
BEGIN:STANDARD
DTSTART:19820101T010000
RRULE:FREQ=YEARLY;BYDAY=1FR;BYMONTH=1
TZNAME:+08
TZOFFSETFROM:+0900
TZOFFSETTO:+0800
END:STANDARD
END:VTIMEZONE
BEGIN:VEVENT
DESCRIPTION:\nEvent link: https://Hubud.spaces.nexudus.com/en/events/view/1
 115076060/nomad-film-making--short-movie---discussion\n
DTEND;TZID=Asia/Singapore:20190808T183000
DTSTAMP:20260422T221933Z
DTSTART;TZID=Asia/Singapore:20190808T173000
LOCATION:Hubud
SEQUENCE:0
SUMMARY:Nomad Film Making: Short Movie & Discussion
UID:7f0e645f-7d2e-4302-bb11-aba6f6c3014b
END:VEVENT
END:VCALENDAR
