BEGIN:VCALENDAR
PRODID:Nexudus
VERSION:2.0
BEGIN:VTIMEZONE
TZID:Asia/Singapore
X-LIC-LOCATION:Asia/Singapore
BEGIN:STANDARD
DTSTART:19820101T010000
RRULE:FREQ=YEARLY;BYDAY=1FR;BYMONTH=1
TZNAME:+08
TZOFFSETFROM:+0900
TZOFFSETTO:+0800
END:STANDARD
END:VTIMEZONE
BEGIN:VEVENT
DESCRIPTION:\nEvent link: https://Hubud.spaces.nexudus.com/en/events/view/1
 115096110/skill-share--make-more-money---the-art-of-storyselling\n
DTEND;TZID=Asia/Singapore:20190731T183000
DTSTAMP:20260423T012508Z
DTSTART;TZID=Asia/Singapore:20190731T173000
LOCATION:Hubud
SEQUENCE:0
SUMMARY:Skill Share: Make More Money - The Art of Storyselling
UID:2b575fff-5240-4295-bdf8-e14b24c1dce3
END:VEVENT
END:VCALENDAR
