BEGIN:VCALENDAR
PRODID:Nexudus
VERSION:2.0
BEGIN:VTIMEZONE
TZID:Asia/Singapore
X-LIC-LOCATION:Asia/Singapore
BEGIN:STANDARD
DTSTART:19820101T010000
RRULE:FREQ=YEARLY;BYDAY=1FR;BYMONTH=1
TZNAME:+08
TZOFFSETFROM:+0900
TZOFFSETTO:+0800
END:STANDARD
END:VTIMEZONE
BEGIN:VEVENT
DESCRIPTION:\nEvent link: https://Hubud.spaces.nexudus.com/en/events/view/1
 147729622/how-to-scale-your-remote-team\n
DTEND;TZID=Asia/Singapore:20190918T183000
DTSTAMP:20260422T233823Z
DTSTART;TZID=Asia/Singapore:20190918T173000
LOCATION:Hubud
SEQUENCE:0
SUMMARY:How to Scale Your Remote Team
UID:896ab618-e301-463a-adc6-24551be309ad
END:VEVENT
END:VCALENDAR
