BEGIN:VCALENDAR
PRODID:Nexudus
VERSION:2.0
BEGIN:VTIMEZONE
TZID:Asia/Singapore
X-LIC-LOCATION:Asia/Singapore
BEGIN:STANDARD
DTSTART:19820101T010000
RRULE:FREQ=YEARLY;BYDAY=1FR;BYMONTH=1
TZNAME:+08
TZOFFSETFROM:+0900
TZOFFSETTO:+0800
END:STANDARD
END:VTIMEZONE
BEGIN:VEVENT
DESCRIPTION:\nEvent link: https://Hubud.spaces.nexudus.com/en/events/view/1
 151175048/linkedin-in-60-minutes\n
DTEND;TZID=Asia/Singapore:20190923T183000
DTSTAMP:20260422T222109Z
DTSTART;TZID=Asia/Singapore:20190923T173000
LOCATION:Hubud
SEQUENCE:0
SUMMARY:LinkedIn in 60 Minutes
UID:fcd05c18-547e-43ed-b3aa-204f7c7c2eac
END:VEVENT
END:VCALENDAR
