BEGIN:VCALENDAR
PRODID:Nexudus
VERSION:2.0
BEGIN:VTIMEZONE
TZID:Asia/Singapore
X-LIC-LOCATION:Asia/Singapore
BEGIN:STANDARD
DTSTART:19820101T010000
RRULE:FREQ=YEARLY;BYDAY=1FR;BYMONTH=1
TZNAME:+08
TZOFFSETFROM:+0900
TZOFFSETTO:+0800
END:STANDARD
END:VTIMEZONE
BEGIN:VEVENT
DESCRIPTION:\nEvent link: https://Hubud.spaces.nexudus.com/en/events/view/1
 198111922/market-like-a-lazy-pioneer\n
DTEND;TZID=Asia/Singapore:20191125T183000
DTSTAMP:20260422T222104Z
DTSTART;TZID=Asia/Singapore:20191125T173000
LOCATION:Hubud
SEQUENCE:0
SUMMARY:Market Like a Lazy Pioneer
UID:aa3a4105-3453-44d3-b54d-2b304238ed4e
END:VEVENT
END:VCALENDAR
