BEGIN:VCALENDAR
PRODID:Nexudus
VERSION:2.0
BEGIN:VTIMEZONE
TZID:Asia/Singapore
X-LIC-LOCATION:Asia/Singapore
BEGIN:STANDARD
DTSTART:19820101T010000
RRULE:FREQ=YEARLY;BYDAY=1FR;BYMONTH=1
TZNAME:+08
TZOFFSETFROM:+0900
TZOFFSETTO:+0800
END:STANDARD
END:VTIMEZONE
BEGIN:VEVENT
DESCRIPTION:\nEvent link: https://Hubud.spaces.nexudus.com/en/events/view/1
 237024803/pulau-plastik---documentary-screening---discussion\n
DTEND;TZID=Asia/Singapore:20200130T193000
DTSTAMP:20260422T222103Z
DTSTART;TZID=Asia/Singapore:20200130T183000
LOCATION:Hubud
SEQUENCE:0
SUMMARY:Pulau Plastik - Documentary Screening & Discussion
UID:2c30d301-25fc-4cee-a44c-bee2b4164888
END:VEVENT
END:VCALENDAR
