BEGIN:VCALENDAR
PRODID:Nexudus
VERSION:2.0
BEGIN:VTIMEZONE
TZID:Asia/Singapore
X-LIC-LOCATION:Asia/Singapore
BEGIN:STANDARD
DTSTART:19820101T010000
RRULE:FREQ=YEARLY;BYDAY=1FR;BYMONTH=1
TZNAME:+08
TZOFFSETFROM:+0900
TZOFFSETTO:+0800
END:STANDARD
END:VTIMEZONE
BEGIN:VEVENT
DESCRIPTION:\nEvent link: https://Hubud.spaces.nexudus.com/en/events/view/1
 237835912/be-mindful-with-bullet-journal\n
DTEND;TZID=Asia/Singapore:20200205T183000
DTSTAMP:20260422T222110Z
DTSTART;TZID=Asia/Singapore:20200205T173000
LOCATION:Hubud
SEQUENCE:0
SUMMARY:Be Mindful with Bullet Journal 
UID:73107e75-13fa-44ee-9dda-929547a4f895
END:VEVENT
END:VCALENDAR
