BEGIN:VCALENDAR
PRODID:Nexudus
VERSION:2.0
BEGIN:VTIMEZONE
TZID:Asia/Singapore
X-LIC-LOCATION:Asia/Singapore
BEGIN:STANDARD
DTSTART:19820101T010000
RRULE:FREQ=YEARLY;BYDAY=1FR;BYMONTH=1
TZNAME:+08
TZOFFSETFROM:+0900
TZOFFSETTO:+0800
END:STANDARD
END:VTIMEZONE
BEGIN:VEVENT
DESCRIPTION:\nEvent link: https://Hubud.spaces.nexudus.com/en/events/view/1
 258923675/what-data-science-tells-us-or-so-we-think\n
DTEND;TZID=Asia/Singapore:20200220T183000
DTSTAMP:20260422T222100Z
DTSTART;TZID=Asia/Singapore:20200220T173000
LOCATION:Hubud
SEQUENCE:0
SUMMARY:What Data Science Tells Us Or So We Think
UID:53fd5ddf-966c-4000-aed7-5095a6853872
END:VEVENT
END:VCALENDAR
