BEGIN:VCALENDAR
PRODID:Nexudus
VERSION:2.0
BEGIN:VTIMEZONE
TZID:Asia/Singapore
X-LIC-LOCATION:Asia/Singapore
BEGIN:STANDARD
DTSTART:19820101T010000
RRULE:FREQ=YEARLY;BYDAY=1FR;BYMONTH=1
TZNAME:+08
TZOFFSETFROM:+0900
TZOFFSETTO:+0800
END:STANDARD
END:VTIMEZONE
BEGIN:VEVENT
DESCRIPTION:\nEvent link: https://Hubud.spaces.nexudus.com/en/events/view/1
 264726484/hack-your-productivity-with-kratom\n
DTEND;TZID=Asia/Singapore:20200304T183000
DTSTAMP:20260422T203914Z
DTSTART;TZID=Asia/Singapore:20200304T173000
LOCATION:Hubud
SEQUENCE:0
SUMMARY:Hack Your Productivity With Kratom
UID:889a7a0b-1cb3-42e0-b5c3-9ef81b1d234c
END:VEVENT
END:VCALENDAR
