BEGIN:VCALENDAR
PRODID:Nexudus
VERSION:2.0
BEGIN:VTIMEZONE
TZID:Asia/Singapore
X-LIC-LOCATION:Asia/Singapore
BEGIN:STANDARD
DTSTART:19820101T010000
RRULE:FREQ=YEARLY;BYDAY=1FR;BYMONTH=1
TZNAME:+08
TZOFFSETFROM:+0900
TZOFFSETTO:+0800
END:STANDARD
END:VTIMEZONE
BEGIN:VEVENT
DESCRIPTION:\nEvent link: https://Hubud.spaces.nexudus.com/en/events/view/1
 270155988/ubud-toastmasters\n
DTEND;TZID=Asia/Singapore:20200304T213000
DTSTAMP:20260422T203939Z
DTSTART;TZID=Asia/Singapore:20200304T190000
LOCATION:Hubud
SEQUENCE:0
SUMMARY:Ubud Toastmasters
UID:3c10e4ee-0c52-4231-a638-eedddab073e6
END:VEVENT
END:VCALENDAR
