BEGIN:VCALENDAR
PRODID:Nexudus
VERSION:2.0
BEGIN:VTIMEZONE
TZID:Asia/Singapore
X-LIC-LOCATION:Asia/Singapore
BEGIN:STANDARD
DTSTART:19820101T010000
RRULE:FREQ=YEARLY;BYDAY=1FR;BYMONTH=1
TZNAME:+08
TZOFFSETFROM:+0900
TZOFFSETTO:+0800
END:STANDARD
END:VTIMEZONE
BEGIN:VEVENT
DESCRIPTION:\nEvent link: https://Hubud.spaces.nexudus.com/en/events/view/1
 272896665/how-to-create-a-successful-morning-ritual\n
DTEND;TZID=Asia/Singapore:20200312T183000
DTSTAMP:20260422T203917Z
DTSTART;TZID=Asia/Singapore:20200312T173000
LOCATION:Hubud
SEQUENCE:0
SUMMARY:How to Create a Successful Morning Ritual
UID:8e4bf270-06bb-45ad-bf80-1e2ba3326003
END:VEVENT
END:VCALENDAR
