BEGIN:VCALENDAR
PRODID:Nexudus
VERSION:2.0
BEGIN:VTIMEZONE
TZID:Asia/Singapore
X-LIC-LOCATION:Asia/Singapore
BEGIN:STANDARD
DTSTART:19820101T010000
RRULE:FREQ=YEARLY;BYDAY=1FR;BYMONTH=1
TZNAME:+08
TZOFFSETFROM:+0900
TZOFFSETTO:+0800
END:STANDARD
END:VTIMEZONE
BEGIN:VEVENT
DESCRIPTION:\nEvent link: https://Hubud.spaces.nexudus.com/en/events/view/1
 290592332/hubud-creative-hours--scissoring-with-marc\n
DTEND;TZID=Asia/Singapore:20200315T193000
DTSTAMP:20260422T203833Z
DTSTART;TZID=Asia/Singapore:20200317T180000
LOCATION:Hubud
SEQUENCE:0
SUMMARY:Hubud Creative Hours: Scissoring With Marc
UID:37a9f483-fb53-407c-9ee8-9b20c5c79b29
END:VEVENT
END:VCALENDAR
