BEGIN:VCALENDAR
PRODID:Nexudus
VERSION:2.0
BEGIN:VTIMEZONE
TZID:Asia/Singapore
X-LIC-LOCATION:Asia/Singapore
BEGIN:STANDARD
DTSTART:19820101T010000
RRULE:FREQ=YEARLY;BYDAY=1FR;BYMONTH=1
TZNAME:+08
TZOFFSETFROM:+0900
TZOFFSETTO:+0800
END:STANDARD
END:VTIMEZONE
BEGIN:VEVENT
DESCRIPTION:Test\nEvent link: https://Hubud.spaces.nexudus.com/en/events/vi
 ew/602419229/copy-of-bali-bungkus-trial-2-test\n
DTEND;TZID=Asia/Singapore:20171212T133000
DTSTAMP:20260423T030649Z
DTSTART;TZID=Asia/Singapore:20171212T123000
LOCATION:Hubud
SEQUENCE:0
SUMMARY:Copy of Bali Bungkus Trial 2 TEST
UID:07feffd0-19d2-444b-9268-f799371a9dbc
END:VEVENT
END:VCALENDAR
