BEGIN:VCALENDAR
PRODID:Nexudus
VERSION:2.0
BEGIN:VTIMEZONE
TZID:Asia/Singapore
X-LIC-LOCATION:Asia/Singapore
BEGIN:STANDARD
DTSTART:19820101T010000
RRULE:FREQ=YEARLY;BYDAY=1FR;BYMONTH=1
TZNAME:+08
TZOFFSETFROM:+0900
TZOFFSETTO:+0800
END:STANDARD
END:VTIMEZONE
BEGIN:VEVENT
DESCRIPTION:This event is for members only. Find out more about membership 
 (including Events Only membership) at https://www.hubud.org/join/\n\nWhat 
 you will learn:\n\nAre you wondering what it's like to sell a product on A
 mazon and run an Amazon business? \n\nMona will share her transition from 
 lawyer to location-independent entrepreneur and give you an overview of he
 r process of launching a successful Amazon product and ecommerce business 
 3 years ago from right here in the walls of Hubud. Her wellness brand now 
 has been featured in Health Magazine\, Headline News\, the Australian Fina
 ncial Review\, and Wirecutter\, to name a few. From her long experience as
  a seller\, she will give you an overview of what's involved so you can se
 e if it's right for you. Before people commit to the process\, they want t
 o know: is this for me? What's the initial investment? What are all the ba
 sic components i need to know or learn about selling on Amazon? What are t
 he potential upsides and downsides? How do I know what product to sell? Ho
 w much of a time commitment is it? Do I have to have experience in this? M
 ona will share an overview and give you tips on launching a product as wel
 l as the many changes in the ecommerce and Amazon marketplace over the las
 t 2 years. This talk is for those who are considering launching an Amazon 
 business on the side or as their full-time venture at some point as only t
 he basics will be covered! She will also cover how this type of business c
 an create time and money for you to pursue other passions.\n\n\nAbout the 
 speaker: \n\nMona Motwani is a human rights lawyer turned entrepreneur. Sh
 e launched a very successful ecommerce company in 2014 and is a professed 
 digital nomad having relocated to Ubud\, Bali almost 5 years ago having li
 ved in San Francisco prior to that. Mona now sells successful wellness pro
 ducts through her ecommerce company. Though Mona loves learning everything
  about being a location-independent entrepreneur\, her main passions are h
 uman rights\, the environment\, and spiritual and personal development. Sh
 e is in the process of streamlining her ecommerce company so that she can 
 have it mostly automated\, and then have the financial capital (and use he
 r newly acquired entrepreneurial know-how) to work on social ventures and 
 projects in the developing world that make the world a better place. She c
 ontinues to advise Spark (www.sparksf.org)\, a non-profit she co-founded i
 n 2004\, which works to fund and empower grassroots women's groups all ove
 r the world and now sits on the Board of OneProsper https://www.oneprosper
 .org/. Mona is also writing her first book.\nEvent link: https://Hubud.spa
 ces.nexudus.com/en/events/view/620430838/bali-bungkus--amazon-ecommerce-10
 1\n
DTEND;TZID=Asia/Singapore:20180531T133000
DTSTAMP:20260422T221243Z
DTSTART;TZID=Asia/Singapore:20180531T123000
LOCATION:Hubud
SEQUENCE:0
SUMMARY:Bali Bungkus: Amazon Ecommerce 101
UID:20c67041-acc4-4919-8034-1c6a7ea5082a
END:VEVENT
END:VCALENDAR
