BEGIN:VCALENDAR
PRODID:Nexudus
VERSION:2.0
BEGIN:VTIMEZONE
TZID:Asia/Singapore
X-LIC-LOCATION:Asia/Singapore
BEGIN:STANDARD
DTSTART:19820101T010000
RRULE:FREQ=YEARLY;BYDAY=1FR;BYMONTH=1
TZNAME:+08
TZOFFSETFROM:+0900
TZOFFSETTO:+0800
END:STANDARD
END:VTIMEZONE
BEGIN:VEVENT
DESCRIPTION:\nEvent link: https://Hubud.spaces.nexudus.com/en/events/view/6
 27844222/wellness-wednesday--yoga-at-hubud\n
DTEND;TZID=Asia/Singapore:20180613T100000
DTSTAMP:20260423T145410Z
DTSTART;TZID=Asia/Singapore:20180613T090000
LOCATION:Hubud
SEQUENCE:0
SUMMARY:Wellness Wednesday: Yoga at Hubud
UID:ab4b3b75-0cfe-40c9-9433-f02f601802cd
END:VEVENT
END:VCALENDAR
