BEGIN:VCALENDAR
PRODID:Nexudus
VERSION:2.0
BEGIN:VTIMEZONE
TZID:Asia/Singapore
X-LIC-LOCATION:Asia/Singapore
BEGIN:STANDARD
DTSTART:19820101T010000
RRULE:FREQ=YEARLY;BYDAY=1FR;BYMONTH=1
TZNAME:+08
TZOFFSETFROM:+0900
TZOFFSETTO:+0800
END:STANDARD
END:VTIMEZONE
BEGIN:VEVENT
DESCRIPTION:\nEvent link: https://Hubud.spaces.nexudus.com/en/events/view/6
 27844223/blockchain-babes--ubud-\n
DTEND;TZID=Asia/Singapore:20180611T190000
DTSTAMP:20260425T203121Z
DTSTART;TZID=Asia/Singapore:20180611T170000
LOCATION:Hubud 
SEQUENCE:0
SUMMARY:Blockchain Babes (Ubud)
UID:f24e9542-c16f-4e77-a71a-b0431f7d44b3
END:VEVENT
END:VCALENDAR
