BEGIN:VCALENDAR
PRODID:Nexudus
VERSION:2.0
BEGIN:VTIMEZONE
TZID:Asia/Singapore
X-LIC-LOCATION:Asia/Singapore
BEGIN:STANDARD
DTSTART:19820101T010000
RRULE:FREQ=YEARLY;BYDAY=1FR;BYMONTH=1
TZNAME:+08
TZOFFSETFROM:+0900
TZOFFSETTO:+0800
END:STANDARD
END:VTIMEZONE
BEGIN:VEVENT
DESCRIPTION:This event is for members only. Find out more about membership 
 (including Events Only membership) at https://www.hubud.org/join/\n\nThis 
 talk provides a step-by-step guide to breaking down successful songs and w
 riting original lyrics that people love\, utilizing both sides of your bra
 in. While focused on songwriting\, the method and fundamentals apply to im
 proving any type of creative writing including blogs\, tweets\, or even lo
 ve letters.\n\nWhat you'll learn:\n- the technique presented makes the wri
 ting process faster\n- it provides a framework to channel creativity to av
 oid getting stuck when writing\n- it is a technique equally suited to some
 one who has never written a song before\, and someone who is a seasoned pr
 ofessional writer\n- you will actively write a song during the session\, a
 pplying the techniques discussed\n- you will learn how\, starting from int
 entionally writing bad lyrics\, you can shape them into great lyrics\n\nAb
 out the speaker:\nBenjamin is a writer - lyrics in the morning light\, cod
 e in the daylight\, guitar solos in the spotlight. He loves the relationsh
 ip between art and science. When he listens to a Taylor Swift song he hear
 s math. When he reviews JavaScript he sees curves of beauty. \n\nBenjamin 
 cuts his songwriting teeth as an artist\, signed to Universal Records for 
 a decade in the US\, and he planted his entrepreneurial roots in the early
  days of Hubud in 2013.\nEvent link: https://Hubud.spaces.nexudus.com/en/e
 vents/view/627844748/skill-share--the-left---right-brain-lyric-writing-tec
 hnique\n
DTEND;TZID=Asia/Singapore:20180626T133000
DTSTAMP:20260423T030521Z
DTSTART;TZID=Asia/Singapore:20180626T123000
LOCATION:Hubud
SEQUENCE:0
SUMMARY:Skill Share: The Left / Right Brain Lyric Writing Technique
UID:f3dae9bb-75d2-4d52-ab82-775242d11edc
END:VEVENT
END:VCALENDAR
