BEGIN:VCALENDAR
PRODID:Nexudus
VERSION:2.0
BEGIN:VTIMEZONE
TZID:Asia/Singapore
X-LIC-LOCATION:Asia/Singapore
BEGIN:STANDARD
DTSTART:19820101T010000
RRULE:FREQ=YEARLY;BYDAY=1FR;BYMONTH=1
TZNAME:+08
TZOFFSETFROM:+0900
TZOFFSETTO:+0800
END:STANDARD
END:VTIMEZONE
BEGIN:VEVENT
DESCRIPTION:This event is for members only. Find out more about membership 
 (including Events Only membership) at https://www.hubud.org/join/\n\nDo yo
 u want to clear your mind during your work day and re-boost your concentra
 tion? Join Anushka Kalro during her Mandala Workshop! She will take you on
  a journey to unravel the connection between meditation and creativity. \n
 \nA Mandala is a Hindu/Buddhist geometric figure. In Hinduism\, it’s a d
 econstructed geometry of the lord’s energy. That's why every Hindu god i
 s depicted with a unique Mandala. In Buddhism\, Mandalas were the outcome 
 of resonance on water as the monks saw them. Also in this case\, they are 
 depictions of energy.\n\nWhat you'll be doing:\n- in one hour session you 
 will create a monochrome mandala inspired by Ubud\n- you will learn how to
  deconstruct your thoughts and feelings into a geometric energy drawing. A
 nd no rules/guidelines for ‘doing it right’!\n\nAbout the host:\nAnush
 ka’s passion for art and design began early. She grew up to become a Tra
 ns-disciplinary Designer with a specialization in Visual Communication Des
 ign. Afterwards\, she pursued a program in Entrepreneurship for Emerging E
 conomies at the Stanford University. Presently\, she is in Bali working on
  a book for five to eight year old.\nEvent link: https://Hubud.spaces.nexu
 dus.com/en/events/view/633887263/creative-hour--mandala-workshop\n
DTEND;TZID=Asia/Singapore:20180622T160000
DTSTAMP:20260423T025135Z
DTSTART;TZID=Asia/Singapore:20180622T150000
LOCATION:Hubud
SEQUENCE:0
SUMMARY:Creative Hour: Mandala Workshop
UID:76c5afac-9490-4eb6-a7ef-c5ec3ce159f2
END:VEVENT
END:VCALENDAR
