BEGIN:VCALENDAR
PRODID:Nexudus
VERSION:2.0
BEGIN:VTIMEZONE
TZID:Asia/Singapore
X-LIC-LOCATION:Asia/Singapore
BEGIN:STANDARD
DTSTART:19820101T010000
RRULE:FREQ=YEARLY;BYDAY=1FR;BYMONTH=1
TZNAME:+08
TZOFFSETFROM:+0900
TZOFFSETTO:+0800
END:STANDARD
END:VTIMEZONE
BEGIN:VEVENT
DESCRIPTION:This event is open to the public!\n\n★ SAVE THE DATE: MONDAY\
 , 25 JUNE 2018\n★★ OPEN TO PUBLIC\n★★★ FREE SCREENING AT HUBUD\n
 \nA burger-loving hit man\, his philosophical partner\, a drug-addled gang
 ster's moll and a washed-up boxer converge in this sprawling\, comedic cri
 me caper. Their adventures unfurl in three stories that ingeniously trip b
 ack and forth in time.\n\nNot only we'll watch the movie but there will be
  an open discussion after the screening with Hubudians.\n\nFood & drinks w
 ill be available at Kantin\, so if you fancy beer or some snacks (Popcorn?
  YES!)\, worry no more!\nEvent link: https://Hubud.spaces.nexudus.com/en/e
 vents/view/633887440/hubud-movie-night--pulp-fiction\n
DTEND;TZID=Asia/Singapore:20180624T200000
DTSTAMP:20260423T131600Z
DTSTART;TZID=Asia/Singapore:20180624T180000
LOCATION:Hubud
SEQUENCE:0
SUMMARY:Hubud Movie Night: Pulp Fiction
UID:7ab4712d-70df-4100-a704-f41202a7463f
END:VEVENT
END:VCALENDAR
