BEGIN:VCALENDAR
PRODID:Nexudus
VERSION:2.0
BEGIN:VTIMEZONE
TZID:Asia/Singapore
X-LIC-LOCATION:Asia/Singapore
BEGIN:STANDARD
DTSTART:19820101T010000
RRULE:FREQ=YEARLY;BYDAY=1FR;BYMONTH=1
TZNAME:+08
TZOFFSETFROM:+0900
TZOFFSETTO:+0800
END:STANDARD
END:VTIMEZONE
BEGIN:VEVENT
DESCRIPTION:This event is for members only. Find out more about membership 
 (including Events Only membership) at https://www.hubud.org/join/\n\nAlexa
 nder will present problems and solutions related to three different topics
 : document management\, accounting and tax.\nThis Skill Share session take
 s place with the objective that proposals\, ideas and solutions will be di
 scussed among the participants\, especially because these topics and relat
 ed experiences can drastically change depending on people's situations and
  countries. \nAlexander is still struggling about these topics since he be
 gan to work independently and he's looking for an open discussion that can
  bring some clarity.\n\n.What you'll learn:\n- how to handle a huge number
  of documents as freelancer and/or entrepreneur\, since there is the need 
 to keep them for a long time\n- practicing methods and systems that help t
 o handle documents as a digital nomad\n- to do proper accounting\, since i
 t is the base for the tax declaration \n\nAbout the speaker:\nAlexander st
 arted his first self-employment trial in the sector of it-services\, after
  a MA in Physics. Later\, realizing that he needed to specialize\, Alexand
 er did a course in Software Engineering. After this decision he felt that 
 something more was needed in order to have good chances out in the market.
  That's the reason why he pursued both a BA and a MA in Computer Science. 
 His first well paid project was finally for BMW\, one decade after he beca
 me self-employed.\nEvent link: https://Hubud.spaces.nexudus.com/en/events/
 view/638476839/skill-share--document-management--accounting-and-tax\n
DTEND;TZID=Asia/Singapore:20180625T133000
DTSTAMP:20260422T221934Z
DTSTART;TZID=Asia/Singapore:20180625T123000
LOCATION:Hubud
SEQUENCE:0
SUMMARY:Skill Share: document management\, accounting and tax
UID:5a1ab62d-9cf0-40bb-80ce-1b99dd50b4dd
END:VEVENT
END:VCALENDAR
