BEGIN:VCALENDAR
PRODID:Nexudus
VERSION:2.0
BEGIN:VTIMEZONE
TZID:Asia/Singapore
X-LIC-LOCATION:Asia/Singapore
BEGIN:STANDARD
DTSTART:19820101T010000
RRULE:FREQ=YEARLY;BYDAY=1FR;BYMONTH=1
TZNAME:+08
TZOFFSETFROM:+0900
TZOFFSETTO:+0800
END:STANDARD
END:VTIMEZONE
BEGIN:VEVENT
DESCRIPTION:This event is for members only. Find out more about membership 
 (including Events Only membership) at https://www.hubud.org/join/\n\nSelli
 ng is a skill any entrepreneur should learn\, and it doesn't have to be as
  dreadful as it sounds or seems. This talk is meant to be highly interacti
 ve in order to solve your problems live\, all together! Come prepared and 
 bring something to write on\, as Marine will be providing some questions t
 o guide your thoughts and move forward. You already have the answers\, Mar
 ine will just ask the right questions to get them out.\n\nThanks to these 
 questions you will learn how to:\n- get you into the right mindset to sell
  authentically and easily\n- find new ways to reach your people and ideal 
 customers\n- guide you to find creative ways to market yourself through co
 ntent strategy\n- evaluate if leveraging Facebook groups for yourself is a
  good idea and how you can use them\n- get solutions specifically useful f
 or your situation and not just a "how to" with a series of steps to achiev
 e results \n - get instant benefit and be able to change your approach of 
 sales right away so that you can finally enjoy it\, or at least do it in a
  more relaxed way\n\nAbout the speaker:\nMarine Grandjean was born in Fran
 ce\, lived in Colombia and the US\, currently roaming the world and she co
 nsiders herself a multi-passionate entrepreneur. She loves tech\, entrepre
 neurship\, art\, and personal development. Marine sings\, writes\, paints\
 , and looooves business and sales strategy.\n\nAfter having worked in sale
 s for her whole life\, both in corporate and startup environments\, she fi
 nally understood why she didn't enjoy her job. It wasn't selling the probl
 em\, or its techniques\, but rather the way they are used and the mindset 
 behind it. \nMarine realized that simply working on the mindset behind sel
 ling\, combined with a few changes in the actions taken\, the results can 
 actually improve a lot. Most importantly\, selling becomes pleasant\, fun\
 , effortless. On top of that\, it gives more meaning to your work\, to the
  service you provide to your customers\, essential to make people feel mor
 e fulfilled.\nThis is why Marine became a business coach\, specializing in
  authentic sales and the mindset behind it. She wanted to show to entrepre
 neurs that they can do business in a more purposeful way\, that there is a
  better and easier way of serving their customers\, and be happier as a re
 sult\, which indirectly keeps on feeding their business and the results th
 ey get from it.\nEvent link: https://Hubud.spaces.nexudus.com/en/events/vi
 ew/639481844/bali-bungkus--how-to-attract-customers-and-make-selling-fun-\
 n
DTEND;TZID=Asia/Singapore:20180703T133000
DTSTAMP:20260423T104305Z
DTSTART;TZID=Asia/Singapore:20180703T123000
LOCATION:Hubud
SEQUENCE:0
SUMMARY:Bali Bungkus: How to attract customers and make selling fun!
UID:0d992871-fa2a-40b1-8d23-e69fbb2e7458
END:VEVENT
END:VCALENDAR
