BEGIN:VCALENDAR
PRODID:Nexudus
VERSION:2.0
BEGIN:VTIMEZONE
TZID:Asia/Singapore
X-LIC-LOCATION:Asia/Singapore
BEGIN:STANDARD
DTSTART:19820101T010000
RRULE:FREQ=YEARLY;BYDAY=1FR;BYMONTH=1
TZNAME:+08
TZOFFSETFROM:+0900
TZOFFSETTO:+0800
END:STANDARD
END:VTIMEZONE
BEGIN:VEVENT
DESCRIPTION:\nEvent link: https://Hubud.spaces.nexudus.com/en/events/view/6
 39481906/hubud-movie-night--the-life-aquatic-with-steve-zissou\n
DTEND;TZID=Asia/Singapore:20181001T210000
DTSTAMP:20260423T082343Z
DTSTART;TZID=Asia/Singapore:20181001T190000
LOCATION:Hubud
SEQUENCE:0
SUMMARY:Hubud Movie Night: The Life Aquatic with Steve Zissou
UID:6e568ca2-e8db-440c-ba50-e4be5dddf950
END:VEVENT
END:VCALENDAR
