BEGIN:VCALENDAR
PRODID:Nexudus
VERSION:2.0
BEGIN:VTIMEZONE
TZID:Asia/Singapore
X-LIC-LOCATION:Asia/Singapore
BEGIN:STANDARD
DTSTART:19820101T010000
RRULE:FREQ=YEARLY;BYDAY=1FR;BYMONTH=1
TZNAME:+08
TZOFFSETFROM:+0900
TZOFFSETTO:+0800
END:STANDARD
END:VTIMEZONE
BEGIN:VEVENT
DESCRIPTION:Hubud presents you the Hubud Open Day!\n\nDo you want to get a 
 taste of co-working at Hubud\, its learning events and their awesome commu
 nity? Come and join us at Hubud Open Day*!\n\nBring your laptop\, start wo
 rking and experienced.\n\nTerms and conditions:\n1. Hubud Open Day starts 
 at 9am and ends at 6pm. \n2. Only people who have NEVER been a monthly/day
  member of Hubud can get the free access on Hubud Open Day\n3. Past member
 s may get 15% discount for Day Pass if purchased during Hubud Open Day\n\n
 \nABOUT OPEN DAY\nEvery first Thursday of the month\, co-working spaces in
  Asia Pacific present to you a free co-working day. If you are not in Ubud
  this Thursday\, check out the list below and feel free to get in touch wi
 th them about a free day-pass:\n\niCube Innovation (Kuching\, Sarawak)\nht
 tp://icubeinnovation.com.my\n\n@CAT Penang (George Town\, Penang)\nhttp://
 acatpenang.com\n\nSCOOPOINT (George Town\, Penang)\nhttp://www.scoopoint.c
 om\n\nPaper + Toast (Bukit Bintang\, Kuala Lumpur)\nhttp://paperandtoast.c
 om\n\nWORQ (Glo Damansara\, Kuala Lumpur)\nhttps://worq.space\n\nH Space (
 Bandar Utama & Kota Damansara\, Kuala Lumpur)\nhttps://www.hspace.co\n\nTh
 e Launchpad (Cyberjaya\, Kuala Lumpur)\nhttp://www.thelaunchpad.my/\n\nThe
  Wave (Kwun Tong\, Hong Kong)\nhttps://www.thewave.com.hk/\n\nEmerald Hub 
 (Phnom Penh\, Cambodia)\nhttp://emeraldhub.co/\n\nGloCal (Rajkot\, India)\
 nhttps://www.facebook.com/glocalcoworking\n\nLaunchpad (Bangkok\, Thailand
 )\nhttp://www.launchpad.co.th \n\nSarikei Innovation Center (Sarikei\, Sar
 awak)\nhttp://sarikeiinnovation.com\n\nJETPACK (Langkawi) \nwww.jetpack.my
 \n\nHubud (Bali\, Indonesia)\nhttps://www.hubud.org/\n\nDNC (Da Nang\, Vie
 tnam)\nhttp://coworking.dnes.vn/\n\nClickSpace (Hanoi)\nhttp://clickspace.
 vn/\n\nEgg (Ho chi Minh City\, Vietnam)\nwww.egg.sg\n\nLink Collaboration 
 Space (Bangkok\, Thailand)\nhttp://www.linkbkk.com/\n\nMSOGO (Penang\, Mal
 aysia)\nhttp://www.msogo.com/\n\nWorkcentral (Mongolia)\nhttp://workcentra
 l.mn/\n\nDojo8 (Bocolod and iloilo\, Philippines)\nhttp://www.dojo8.ph/\n\
 nVORQ Space (Mumbai\, India)\nhttp://www.vorqspace.com/\n\nKX (Bangkok\, T
 hailand)\nhttp://kx.in.th/\n\nIskandar Space (Malaysia - Johor Bahru)\nhtt
 ps://iskandar.space/\n\nUpTown Co-Workshop (Shek Tong Tsui - Hong Kong)\nh
 ttps://hkuptown.com/\n\nUpTown Coworking Space (Korea - Seoul)\nhttps://up
 townseoul.modoo.at/\n\nImpact Hub Jakarta (Jakarta - Indonesia)\nhttp://co
 workinc.net/\n\nMustard Seed (Hong Kong)\nhttps://www.mustardseed.space\n\
 nCommon Ground (Kuala Lumpur)\nhttp://www.commonground.work\n\nBersama-Sam
 a (Perai\, Penang)\nhttp://www.bersama.my\n\nCoHoots Coworking Space (Vict
 oria\, Australia)\nhttp://www.cohoots.info\n\nThe Desk (Phnom Penh\, Cambo
 dia)\nhttp://www.thedeskcambodia.com\n\nRuang Kreasi Coworking Space (Bata
 m\, Indonesia)\nhttps://www.ruangkreasi.co\n\nUOWork (Seoul\, Korea)\nhttp
 ://www.uowork.co.kr\n\nCoHere (Penang\, Malaysia)\nCoHere Malaysia\n\nSett
 lements - Penang\, Malaysia\nhttp://settlements.work/\n\niKoVerk - Surat\,
  India\nhttps://ikoverk.com/\n\nUnionSPACE - Jakarta\, Indonesia\nhttps://
 unionspace.com/\n\nBig Wheel - Johor\, Malaysia\nhttp://www.bigwheel.com.m
 y/\n\nBusiness Hubs - Colpetty / Mount Lavinia / Nugegoda / Deal Place\, S
 ri Lanka\nhttp://www.businesshubs.lk/\nEvent link: https://Hubud.spaces.ne
 xudus.com/en/events/view/647521956/hubud-open-day-\n
DTEND;TZID=Asia/Singapore:20180712T170000
DTSTAMP:20260423T115246Z
DTSTART;TZID=Asia/Singapore:20180712T090000
LOCATION:Hubud
SEQUENCE:0
SUMMARY:Hubud Open Day!
UID:fb743882-6538-4f60-b442-001627d90117
END:VEVENT
END:VCALENDAR
