BEGIN:VCALENDAR
PRODID:Nexudus
VERSION:2.0
BEGIN:VTIMEZONE
TZID:Asia/Singapore
X-LIC-LOCATION:Asia/Singapore
BEGIN:STANDARD
DTSTART:19820101T010000
RRULE:FREQ=YEARLY;BYDAY=1FR;BYMONTH=1
TZNAME:+08
TZOFFSETFROM:+0900
TZOFFSETTO:+0800
END:STANDARD
END:VTIMEZONE
BEGIN:VEVENT
DESCRIPTION:This event is FREE and open to the public\, bring your friends!
 \n\nLet's bring your inner superstar live on stage! Any songs from any gen
 re and any year are welcome here. No need to be shy\, no one will judge yo
 u for one night \;)\n\nBring your singing partners and get ready to sing a
 nd dance the night away! \n\nLeave your computer and come meet the amazing
  Hubud Community during the HUBUD KARAOKE NIGHT!\nEvent link: https://Hubu
 d.spaces.nexudus.com/en/events/view/655357723/hubud-social-hour--karaoke-n
 ight\n
DTEND;TZID=Asia/Singapore:20180720T220000
DTSTAMP:20260423T132630Z
DTSTART;TZID=Asia/Singapore:20180720T183000
LOCATION:Hubud
SEQUENCE:0
SUMMARY:Hubud Social Hour: Karaoke Night
UID:d452726e-1e29-4590-8aac-0bfe90a8acef
END:VEVENT
END:VCALENDAR
