BEGIN:VCALENDAR
PRODID:Nexudus
VERSION:2.0
BEGIN:VTIMEZONE
TZID:Asia/Singapore
X-LIC-LOCATION:Asia/Singapore
BEGIN:STANDARD
DTSTART:19820101T010000
RRULE:FREQ=YEARLY;BYDAY=1FR;BYMONTH=1
TZNAME:+08
TZOFFSETFROM:+0900
TZOFFSETTO:+0800
END:STANDARD
END:VTIMEZONE
BEGIN:VEVENT
DESCRIPTION:Are you a new Mac user? Or perhaps you have a problem that need
 s troubleshooting?\n\nGet a free one-on-one session with Pak Bram\, our in
 -house Mac Doctor! Each Wednesday from 10-12\, Pak Bram will troubleshoot\
 , point out handy shortcuts and tips\, and offer other advice that will ma
 ke your daily computer use a smoother and more pleasurable experience.\n\n
 The session is only for Hubud members. Please make an appointment at Hubud
  front desk.\nEvent link: https://Hubud.spaces.nexudus.com/en/events/view/
 657931337/mac-doctor-in-house\n
DTEND;TZID=Asia/Singapore:20180725T120000
DTSTAMP:20260423T115207Z
DTSTART;TZID=Asia/Singapore:20180725T100000
LOCATION:Hubud
SEQUENCE:0
SUMMARY:Mac Doctor in House
UID:b87086d9-043f-4c1b-8abf-b5837b0a4ff0
END:VEVENT
END:VCALENDAR
