BEGIN:VCALENDAR
PRODID:Nexudus
VERSION:2.0
BEGIN:VTIMEZONE
TZID:Asia/Singapore
X-LIC-LOCATION:Asia/Singapore
BEGIN:STANDARD
DTSTART:19820101T010000
RRULE:FREQ=YEARLY;BYDAY=1FR;BYMONTH=1
TZNAME:+08
TZOFFSETFROM:+0900
TZOFFSETTO:+0800
END:STANDARD
END:VTIMEZONE
BEGIN:VEVENT
DESCRIPTION:This event is for members only. Find out more about membership 
 (including Events Only membership) at https://www.hubud.org/join/\n\nWheth
 er your challenge is overworking\, underworking\, a lack of funding\, rela
 tionship issues\, a lack of inspiration for your new project\, or just a s
 ense of confusion or anxiety about your next step – this skill share is 
 for you!\n\nDuring this talk you will learn: \n- that whatever is not work
 ing in your life is directly connected to a dominant neural pathway (menta
 l habit) in your brain\n- simple tools to create new neural pathways in yo
 ur brain\n- make these new pathways become dominant habits within 30-60 da
 ys\n- how to change your world and way of thinking \n\nAbout the speaker:\
 nHeather Noël is the author and narrator of “How to Feel Better When Th
 ings Get Worse”. Check the audio on YouTube and you can come to the clas
 s prepared with questions!\n\nHeather’s site\, TheGivingGameFoundation.c
 om is a 60 day e-course dedicated to sharing transformative concepts\, and
  it's free of charge!\nEvent link: https://Hubud.spaces.nexudus.com/en/eve
 nts/view/657931416/skill-share--be-a-digital-nomad-without-losing-your-bal
 ance\n
DTEND;TZID=Asia/Singapore:20180726T133000
DTSTAMP:20260423T030515Z
DTSTART;TZID=Asia/Singapore:20180726T123000
LOCATION:Hubud
SEQUENCE:0
SUMMARY:Skill Share: Be a Digital Nomad Without Losing Your Balance
UID:f89dba2a-6080-473d-8903-f8f1a6d6e056
END:VEVENT
END:VCALENDAR
