BEGIN:VCALENDAR
PRODID:Nexudus
VERSION:2.0
BEGIN:VTIMEZONE
TZID:Asia/Singapore
X-LIC-LOCATION:Asia/Singapore
BEGIN:STANDARD
DTSTART:19820101T010000
RRULE:FREQ=YEARLY;BYDAY=1FR;BYMONTH=1
TZNAME:+08
TZOFFSETFROM:+0900
TZOFFSETTO:+0800
END:STANDARD
END:VTIMEZONE
BEGIN:VEVENT
DESCRIPTION:\nEvent link: https://Hubud.spaces.nexudus.com/en/events/view/6
 58048391/hubud-open-day-\n
DTEND;TZID=Asia/Singapore:20180802T170000
DTSTAMP:20260425T112431Z
DTSTART;TZID=Asia/Singapore:20180802T090000
LOCATION:Hubud
SEQUENCE:0
SUMMARY:Hubud Open Day!
UID:04f8d07a-4d60-478f-9ab6-33b858ea7b6c
END:VEVENT
END:VCALENDAR
