BEGIN:VCALENDAR
PRODID:Nexudus
VERSION:2.0
BEGIN:VTIMEZONE
TZID:Asia/Singapore
X-LIC-LOCATION:Asia/Singapore
BEGIN:STANDARD
DTSTART:19820101T010000
RRULE:FREQ=YEARLY;BYDAY=1FR;BYMONTH=1
TZNAME:+08
TZOFFSETFROM:+0900
TZOFFSETTO:+0800
END:STANDARD
END:VTIMEZONE
BEGIN:VEVENT
DESCRIPTION:This event is for members only. Find out more about membership 
 (including Events Only membership) at https://www.hubud.org/join/\n\nThis 
 session\, based on Juliette's personal experience\, will help you to ident
 ify how to transform your passion into your business\, creating meaningful
  experiences for others in your daily life and having genuine authentic re
 lationships that can become your greatest resource. We are all in need of 
 community\, but it’s who your surrounded with that will propel you to wh
 ere your purposed to go. By equipping others with your knowledge and exper
 tise\, you can encourage and help people in the lane that they are in\, le
 aving a legacy and imprint by one conversation. Your relationships are key
  and flow into how you operate a successful business. \n\nYou will learn: 
 \n- the importance of understanding the intention of why you are doing wha
 t you do\n- how building on your strengths will allow you to work with eas
 e\n- how to feel okay with starting slow to build big\n- the importance of
  building authentic relationships and who should be on your team\n- the im
 portance of never “arriving” and always having room to grow\n\nAbout t
 he speaker:\nJuliette Bush has traveled to over 36 countries and has lived
  in 3 continents. Asia\, Africa\, and North America. She is the author of 
 two best selling books\, “Brave by Faith” and “I’m 30\, I’m Sing
 le\, and I Don’t Care!." Juliette is also the founder of "Brave by Faith
  Travel." A company that curates and hosts faith - based women's retreats 
 to bucket list locations around the world\, spearheading an authentic and 
 transformative experience that encourages and equips each attendee to do a
 ll that they are called to do.\nEvent link: https://Hubud.spaces.nexudus.c
 om/en/events/view/676489881/bali-bungkus--how-to-make-your-passion-your-bu
 siness\n
DTEND;TZID=Asia/Singapore:20180816T133000
DTSTAMP:20260423T104235Z
DTSTART;TZID=Asia/Singapore:20180816T123000
LOCATION:Hubud
SEQUENCE:0
SUMMARY:Bali Bungkus: How to Make Your Passion Your Business
UID:64a5ab17-fc4c-45a7-b22f-961603155a4c
END:VEVENT
END:VCALENDAR
