BEGIN:VCALENDAR
PRODID:Nexudus
VERSION:2.0
BEGIN:VTIMEZONE
TZID:Asia/Singapore
X-LIC-LOCATION:Asia/Singapore
BEGIN:STANDARD
DTSTART:19820101T010000
RRULE:FREQ=YEARLY;BYDAY=1FR;BYMONTH=1
TZNAME:+08
TZOFFSETFROM:+0900
TZOFFSETTO:+0800
END:STANDARD
END:VTIMEZONE
BEGIN:VEVENT
DESCRIPTION:Leave your computer\, meet your fellow Hubudians\, get to know 
 their latest projects\, and crowdsource for ideas while enjoying tasty coc
 ktails and delicious meals at Maha!\n\nLocation: https://goo.gl/maps/c8GAd
 wZmHtJ2\n\nEveryone is welcome!\nEvent link: https://Hubud.spaces.nexudus.
 com/en/events/view/679903302/hubud-social-hour-at-maha\n
DTEND;TZID=Asia/Singapore:20180824T220000
DTSTAMP:20260423T115250Z
DTSTART;TZID=Asia/Singapore:20180824T190000
LOCATION:Hubud
SEQUENCE:0
SUMMARY:Hubud Social Hour at Maha
UID:285af5db-7744-4f1b-b877-e01a68f9f5da
END:VEVENT
END:VCALENDAR
