BEGIN:VCALENDAR
PRODID:Nexudus
VERSION:2.0
BEGIN:VTIMEZONE
TZID:Asia/Singapore
X-LIC-LOCATION:Asia/Singapore
BEGIN:STANDARD
DTSTART:19820101T010000
RRULE:FREQ=YEARLY;BYDAY=1FR;BYMONTH=1
TZNAME:+08
TZOFFSETFROM:+0900
TZOFFSETTO:+0800
END:STANDARD
END:VTIMEZONE
BEGIN:VEVENT
DESCRIPTION:\nEvent link: https://Hubud.spaces.nexudus.com/en/events/view/7
 08559856/skill-share--how-to-build-a--1000-month-blog-in-6-months\n
DTEND;TZID=Asia/Singapore:20180920T133000
DTSTAMP:20260423T081443Z
DTSTART;TZID=Asia/Singapore:20180920T123000
LOCATION:Hubud
SEQUENCE:0
SUMMARY:Skill Share: How to build a $1000/month blog in 6 months
UID:93d5f7cd-3b1e-4787-b12a-791d5a4b96d7
END:VEVENT
END:VCALENDAR
