BEGIN:VCALENDAR
PRODID:Nexudus
VERSION:2.0
BEGIN:VTIMEZONE
TZID:Asia/Singapore
X-LIC-LOCATION:Asia/Singapore
BEGIN:STANDARD
DTSTART:19820101T010000
RRULE:FREQ=YEARLY;BYDAY=1FR;BYMONTH=1
TZNAME:+08
TZOFFSETFROM:+0900
TZOFFSETTO:+0800
END:STANDARD
END:VTIMEZONE
BEGIN:VEVENT
DESCRIPTION:\nEvent link: https://Hubud.spaces.nexudus.com/en/events/view/7
 09950254/think-thank--come-up-with-a-domain-name-for-a-website\n
DTEND;TZID=Asia/Singapore:20180926T133000
DTSTAMP:20260422T221954Z
DTSTART;TZID=Asia/Singapore:20180926T123000
LOCATION:Hubud
SEQUENCE:0
SUMMARY:Think Thank: Come up with a domain name for a website
UID:a905af6a-914c-4a12-b90f-294fd6402779
END:VEVENT
END:VCALENDAR
