BEGIN:VCALENDAR
PRODID:Nexudus
VERSION:2.0
BEGIN:VTIMEZONE
TZID:Asia/Singapore
X-LIC-LOCATION:Asia/Singapore
BEGIN:STANDARD
DTSTART:19820101T010000
RRULE:FREQ=YEARLY;BYDAY=1FR;BYMONTH=1
TZNAME:+08
TZOFFSETFROM:+0900
TZOFFSETTO:+0800
END:STANDARD
END:VTIMEZONE
BEGIN:VEVENT
DESCRIPTION:\nEvent link: https://Hubud.spaces.nexudus.com/en/events/view/7
 11729024/hubud-social-hour-at-folk\n
DTEND;TZID=Asia/Singapore:20180928T210000
DTSTAMP:20260423T104235Z
DTSTART;TZID=Asia/Singapore:20180928T170000
LOCATION:Folk Pool & Gardens
SEQUENCE:0
SUMMARY:Hubud Social Hour at Folk 
UID:dd2150f6-d0a9-40f8-9d98-29d65aa13db6
END:VEVENT
END:VCALENDAR
