BEGIN:VCALENDAR
PRODID:Nexudus
VERSION:2.0
BEGIN:VTIMEZONE
TZID:Asia/Singapore
X-LIC-LOCATION:Asia/Singapore
BEGIN:STANDARD
DTSTART:19820101T010000
RRULE:FREQ=YEARLY;BYDAY=1FR;BYMONTH=1
TZNAME:+08
TZOFFSETFROM:+0900
TZOFFSETTO:+0800
END:STANDARD
END:VTIMEZONE
BEGIN:VEVENT
DESCRIPTION:\nEvent link: https://Hubud.spaces.nexudus.com/en/events/view/7
 14325625/bali-bungkus--wordpress-website-is-for-everyone\n
DTEND;TZID=Asia/Singapore:20181003T133000
DTSTAMP:20260423T030522Z
DTSTART;TZID=Asia/Singapore:20181003T123000
LOCATION:Hubud
SEQUENCE:0
SUMMARY:Bali Bungkus: Wordpress Website is for Everyone
UID:a96ed833-09c5-405a-b6a0-e5c30fd7d1d5
END:VEVENT
END:VCALENDAR
