BEGIN:VCALENDAR
PRODID:Nexudus
VERSION:2.0
BEGIN:VTIMEZONE
TZID:Asia/Singapore
X-LIC-LOCATION:Asia/Singapore
BEGIN:STANDARD
DTSTART:19820101T010000
RRULE:FREQ=YEARLY;BYDAY=1FR;BYMONTH=1
TZNAME:+08
TZOFFSETFROM:+0900
TZOFFSETTO:+0800
END:STANDARD
END:VTIMEZONE
BEGIN:VEVENT
DESCRIPTION:\nEvent link: https://Hubud.spaces.nexudus.com/en/events/view/7
 63846222/entrepreneurial-thin-thank--hiwe\n
DTEND;TZID=Asia/Singapore:20181120T133000
DTSTAMP:20260423T070202Z
DTSTART;TZID=Asia/Singapore:20181120T123000
LOCATION:Hubud
SEQUENCE:0
SUMMARY:Entrepreneurial Thin Thank: Hiwe
UID:6e4d2864-117c-4d3b-882b-07db3e4c14ae
END:VEVENT
END:VCALENDAR
