BEGIN:VCALENDAR
PRODID:Nexudus
VERSION:2.0
BEGIN:VTIMEZONE
TZID:Asia/Singapore
X-LIC-LOCATION:Asia/Singapore
BEGIN:STANDARD
DTSTART:19820101T010000
RRULE:FREQ=YEARLY;BYDAY=1FR;BYMONTH=1
TZNAME:+08
TZOFFSETFROM:+0900
TZOFFSETTO:+0800
END:STANDARD
END:VTIMEZONE
BEGIN:VEVENT
DESCRIPTION:\nEvent link: https://Hubud.spaces.nexudus.com/en/events/view/8
 63534768/think-thank--deel\n
DTEND;TZID=Asia/Singapore:20190206T150000
DTSTAMP:20260423T042429Z
DTSTART;TZID=Asia/Singapore:20190206T140000
LOCATION:Hubud
SEQUENCE:0
SUMMARY:Think Thank: Deel
UID:01c608f1-349c-451a-8409-c4b6dc629d83
END:VEVENT
END:VCALENDAR
