BEGIN:VCALENDAR
PRODID:Nexudus
VERSION:2.0
BEGIN:VTIMEZONE
TZID:Asia/Singapore
X-LIC-LOCATION:Asia/Singapore
BEGIN:STANDARD
DTSTART:19820101T010000
RRULE:FREQ=YEARLY;BYDAY=1FR;BYMONTH=1
TZNAME:+08
TZOFFSETFROM:+0900
TZOFFSETTO:+0800
END:STANDARD
END:VTIMEZONE
BEGIN:VEVENT
DESCRIPTION:\nEvent link: https://Hubud.spaces.nexudus.com/en/events/view/9
 11058177/bali-bungkus--creating-value-part-2\n
DTEND;TZID=Asia/Singapore:20190214T133000
DTSTAMP:20260423T042452Z
DTSTART;TZID=Asia/Singapore:20190214T123000
LOCATION:Hubud
SEQUENCE:0
SUMMARY:Bali Bungkus: Creating Value Part 2
UID:c03b350a-039f-42a1-983c-c45d22ca311f
END:VEVENT
END:VCALENDAR
