BEGIN:VCALENDAR
PRODID:Nexudus
VERSION:2.0
BEGIN:VTIMEZONE
TZID:Asia/Singapore
X-LIC-LOCATION:Asia/Singapore
BEGIN:STANDARD
DTSTART:19820101T010000
RRULE:FREQ=YEARLY;BYDAY=1FR;BYMONTH=1
TZNAME:+08
TZOFFSETFROM:+0900
TZOFFSETTO:+0800
END:STANDARD
END:VTIMEZONE
BEGIN:VEVENT
DESCRIPTION:\nEvent link: https://Hubud.spaces.nexudus.com/en/events/view/9
 14717823/hubud-social-hour--members-lunch\n
DTEND;TZID=Asia/Singapore:20190215T123000
DTSTAMP:20260424T032810Z
DTSTART;TZID=Asia/Singapore:20190215T123000
LOCATION:Hubud
SEQUENCE:0
SUMMARY:Hubud Social Hour: Members Lunch
UID:97290cd9-718c-41fd-9ad3-691ee06fa93a
END:VEVENT
END:VCALENDAR
