BEGIN:VCALENDAR
PRODID:Nexudus
VERSION:2.0
BEGIN:VTIMEZONE
TZID:Asia/Singapore
X-LIC-LOCATION:Asia/Singapore
BEGIN:STANDARD
DTSTART:19820101T010000
RRULE:FREQ=YEARLY;BYDAY=1FR;BYMONTH=1
TZNAME:+08
TZOFFSETFROM:+0900
TZOFFSETTO:+0800
END:STANDARD
END:VTIMEZONE
BEGIN:VEVENT
DESCRIPTION:\nEvent link: https://Hubud.spaces.nexudus.com/en/events/view/9
 34335413/social-hour--dinner-at-hubud\n
DTEND;TZID=Asia/Singapore:20190408T200000
DTSTAMP:20260423T030522Z
DTSTART;TZID=Asia/Singapore:20190408T190000
LOCATION:Hubud
SEQUENCE:0
SUMMARY:Social Hour: Dinner at Hubud
UID:ac852e31-bb39-4958-bd66-1da2be91522c
END:VEVENT
END:VCALENDAR
