BEGIN:VCALENDAR
PRODID:Nexudus
VERSION:2.0
BEGIN:VTIMEZONE
TZID:Asia/Singapore
X-LIC-LOCATION:Asia/Singapore
BEGIN:STANDARD
DTSTART:19820101T010000
RRULE:FREQ=YEARLY;BYDAY=1FR;BYMONTH=1
TZNAME:+08
TZOFFSETFROM:+0900
TZOFFSETTO:+0800
END:STANDARD
END:VTIMEZONE
BEGIN:VEVENT
DESCRIPTION:\nEvent link: https://Hubud.spaces.nexudus.com/en/events/view/9
 43686747/dojo---hubud-members-bbq\n
DTEND;TZID=Asia/Singapore:20190315T230000
DTSTAMP:20260423T042453Z
DTSTART;TZID=Asia/Singapore:20190315T173000
LOCATION:Dojo Bali
SEQUENCE:0
SUMMARY:Dojo & Hubud Members BBQ
UID:6189cdbb-d141-4548-a72c-a91fc3970664
END:VEVENT
END:VCALENDAR
