BEGIN:VCALENDAR
PRODID:Nexudus
VERSION:2.0
BEGIN:VTIMEZONE
TZID:Asia/Singapore
X-LIC-LOCATION:Asia/Singapore
BEGIN:STANDARD
DTSTART:19820101T010000
RRULE:FREQ=YEARLY;BYDAY=1FR;BYMONTH=1
TZNAME:+08
TZOFFSETFROM:+0900
TZOFFSETTO:+0800
END:STANDARD
END:VTIMEZONE
BEGIN:VEVENT
DESCRIPTION:\nEvent link: https://Hubud.spaces.nexudus.com/en/events/view/9
 60693736/bali-bungkus--seo-101\n
DTEND;TZID=Asia/Singapore:20190327T133000
DTSTAMP:20260423T042437Z
DTSTART;TZID=Asia/Singapore:20190327T123000
LOCATION:Hubud
SEQUENCE:0
SUMMARY:Bali Bungkus: SEO 101
UID:4490c1d0-d730-4778-8e5f-b225e9fdc223
END:VEVENT
END:VCALENDAR
