BEGIN:VCALENDAR
PRODID:Nexudus
VERSION:2.0
BEGIN:VTIMEZONE
TZID:Asia/Singapore
X-LIC-LOCATION:Asia/Singapore
BEGIN:STANDARD
DTSTART:19820101T010000
RRULE:FREQ=YEARLY;BYDAY=1FR;BYMONTH=1
TZNAME:+08
TZOFFSETFROM:+0900
TZOFFSETTO:+0800
END:STANDARD
END:VTIMEZONE
BEGIN:VEVENT
DESCRIPTION:\nEvent link: https://Hubud.spaces.nexudus.com/en/events/view/1
 031764767/skill-share--build-your-tribe---foundations--growth-and-profit\n
DTEND;TZID=Asia/Singapore:20190521T183000
DTSTAMP:20260423T154546Z
DTSTART;TZID=Asia/Singapore:20190527T173000
LOCATION:Hubud
SEQUENCE:0
SUMMARY:Skill Share: Build Your Tribe – Foundations\, Growth and Profit
UID:8ace2958-4a96-4b08-8322-2a8f5f7a4328
END:VEVENT
END:VCALENDAR
