BEGIN:VCALENDAR
PRODID:Nexudus
VERSION:2.0
BEGIN:VTIMEZONE
TZID:Asia/Singapore
X-LIC-LOCATION:Asia/Singapore
BEGIN:STANDARD
DTSTART:19820101T010000
RRULE:FREQ=YEARLY;BYDAY=1FR;BYMONTH=1
TZNAME:+08
TZOFFSETFROM:+0900
TZOFFSETTO:+0800
END:STANDARD
END:VTIMEZONE
BEGIN:VEVENT
DESCRIPTION:\nEvent link: https://Hubud.spaces.nexudus.com/en/events/view/1
 059290234/skill-share--strategic-content-marketing-for-your-personal-brand
 \n
DTEND;TZID=Asia/Singapore:20190617T180000
DTSTAMP:20260422T222104Z
DTSTART;TZID=Asia/Singapore:20190617T170000
LOCATION:Hubud
SEQUENCE:0
SUMMARY:Skill Share: Strategic Content Marketing For Your Personal Brand
UID:7323371e-74be-46a6-84c1-6204dd02f8b3
END:VEVENT
END:VCALENDAR
