BEGIN:VCALENDAR
PRODID:Nexudus
VERSION:2.0
BEGIN:VTIMEZONE
TZID:Asia/Singapore
X-LIC-LOCATION:Asia/Singapore
BEGIN:STANDARD
DTSTART:19820101T010000
RRULE:FREQ=YEARLY;BYDAY=1FR;BYMONTH=1
TZNAME:+08
TZOFFSETFROM:+0900
TZOFFSETTO:+0800
END:STANDARD
END:VTIMEZONE
BEGIN:VEVENT
DESCRIPTION:\nEvent link: https://Hubud.spaces.nexudus.com/en/events/view/1
 060462600/skill-share--youtube-monetization-in-real-life\n
DTEND;TZID=Asia/Singapore:20190619T183000
DTSTAMP:20260422T222101Z
DTSTART;TZID=Asia/Singapore:20190619T173000
LOCATION:Hubud
SEQUENCE:0
SUMMARY:Skill Share: Youtube Monetization in Real Life
UID:0d4bee80-7e95-41ac-8053-d61f36ead771
END:VEVENT
END:VCALENDAR
