BEGIN:VCALENDAR
PRODID:Nexudus
VERSION:2.0
BEGIN:VTIMEZONE
TZID:Asia/Singapore
X-LIC-LOCATION:Asia/Singapore
BEGIN:STANDARD
DTSTART:19820101T010000
RRULE:FREQ=YEARLY;BYDAY=1FR;BYMONTH=1
TZNAME:+08
TZOFFSETFROM:+0900
TZOFFSETTO:+0800
END:STANDARD
END:VTIMEZONE
BEGIN:VEVENT
DESCRIPTION:\nEvent link: https://Hubud.spaces.nexudus.com/en/events/view/1
 115076085/mac-doctor-in-house\n
DTEND;TZID=Asia/Singapore:20191029T120000
DTSTAMP:20260422T221953Z
DTSTART;TZID=Asia/Singapore:20191030T100000
LOCATION:Hubud
SEQUENCE:0
SUMMARY:Mac Doctor in House
UID:9de7b0d7-c819-496b-903b-92d4089229bd
END:VEVENT
END:VCALENDAR
