BEGIN:VCALENDAR
PRODID:Nexudus
VERSION:2.0
BEGIN:VTIMEZONE
TZID:Asia/Singapore
X-LIC-LOCATION:Asia/Singapore
BEGIN:STANDARD
DTSTART:19820101T010000
RRULE:FREQ=YEARLY;BYDAY=1FR;BYMONTH=1
TZNAME:+08
TZOFFSETFROM:+0900
TZOFFSETTO:+0800
END:STANDARD
END:VTIMEZONE
BEGIN:VEVENT
DESCRIPTION:\nEvent link: https://Hubud.spaces.nexudus.com/en/events/view/1
 151980845/balinese-culture-101\n
DTEND;TZID=Asia/Singapore:20190917T183000
DTSTAMP:20260423T080549Z
DTSTART;TZID=Asia/Singapore:20190917T173000
LOCATION:Hubud
SEQUENCE:0
SUMMARY:Balinese Culture 101
UID:7cdd10ed-6424-4e79-8d9d-03e8c88c576f
END:VEVENT
END:VCALENDAR
