BEGIN:VCALENDAR
PRODID:Nexudus
VERSION:2.0
BEGIN:VTIMEZONE
TZID:Asia/Singapore
X-LIC-LOCATION:Asia/Singapore
BEGIN:STANDARD
DTSTART:19820101T010000
RRULE:FREQ=YEARLY;BYDAY=1FR;BYMONTH=1
TZNAME:+08
TZOFFSETFROM:+0900
TZOFFSETTO:+0800
END:STANDARD
END:VTIMEZONE
BEGIN:VEVENT
DESCRIPTION:\nEvent link: https://Hubud.spaces.nexudus.com/en/events/view/1
 196560397/the-brand-sprint\n
DTEND;TZID=Asia/Singapore:20191119T183000
DTSTAMP:20260423T023234Z
DTSTART;TZID=Asia/Singapore:20191119T173000
LOCATION:Hubud
SEQUENCE:0
SUMMARY:The Brand Sprint
UID:65d463f6-2e78-418d-8bb1-94eab0959d66
END:VEVENT
END:VCALENDAR
